BEGIN:VCALENDAR
VERSION:2.0
PRODID:-//Laboratoire Médiations | Unité de recherche de Sorbonne Université - ECPv6.15.12.2//NONSGML v1.0//EN
CALSCALE:GREGORIAN
METHOD:PUBLISH
X-WR-CALNAME:Laboratoire Médiations | Unité de recherche de Sorbonne Université
X-ORIGINAL-URL:https://laboratoire-mediations.sorbonne-universite.fr
X-WR-CALDESC:Évènements pour Laboratoire Médiations | Unité de recherche de Sorbonne Université
REFRESH-INTERVAL;VALUE=DURATION:PT1H
X-Robots-Tag:noindex
X-PUBLISHED-TTL:PT1H
BEGIN:VTIMEZONE
TZID:Europe/Paris
BEGIN:DAYLIGHT
TZOFFSETFROM:+0100
TZOFFSETTO:+0200
TZNAME:CEST
DTSTART:20250330T010000
END:DAYLIGHT
BEGIN:STANDARD
TZOFFSETFROM:+0200
TZOFFSETTO:+0100
TZNAME:CET
DTSTART:20251026T010000
END:STANDARD
BEGIN:DAYLIGHT
TZOFFSETFROM:+0100
TZOFFSETTO:+0200
TZNAME:CEST
DTSTART:20260329T010000
END:DAYLIGHT
BEGIN:STANDARD
TZOFFSETFROM:+0200
TZOFFSETTO:+0100
TZNAME:CET
DTSTART:20261025T010000
END:STANDARD
BEGIN:DAYLIGHT
TZOFFSETFROM:+0100
TZOFFSETTO:+0200
TZNAME:CEST
DTSTART:20270328T010000
END:DAYLIGHT
BEGIN:STANDARD
TZOFFSETFROM:+0200
TZOFFSETTO:+0100
TZNAME:CET
DTSTART:20271031T010000
END:STANDARD
END:VTIMEZONE
BEGIN:VEVENT
DTSTART;TZID=Europe/Paris:20260604T170000
DTEND;TZID=Europe/Paris:20260604T200000
DTSTAMP:20260424T023740
CREATED:20260312T103528Z
LAST-MODIFIED:20260312T103730Z
UID:15010-1780592400-1780603200@laboratoire-mediations.sorbonne-universite.fr
SUMMARY:Journée d'étude sur le thème des pèlerinages en géographie
DESCRIPTION:Journée d’étude organisée par Rocio Peleaz Camacho\, Andrea Peña-Angeles et Anne-Catherine Jovanovic \nLe pèlerinage : un objet géographique ? \nMots-clés : pèlerinage\, tourisme\, haut lieu\, circulations\, folklore\nPrésentation :\nDans le dictionnaire Le Robert[1]\, le pèlerinage est défini à la fois comme : “un voyage vers un lieu saint dans\nun esprit de dévotion” et comme : “un voyage fait pour rendre hommage à un lieu\, à une personne qu’on\nvénère”. Cette double définition ouvre des perspectives d’analyse géographique : le pèlerinage religieux et\nle pèlerinage médiatique ou culturel ont-ils les mêmes effets spatiaux sur les territoires ? Cette interrogation\ninvite les géographes à se saisir de cet objet pour en évaluer les réalités territoriales.\nL’objectif de cette rencontre franco-mexicaine repose sur la volonté de comprendre comment le phénomène\ndu pèlerinage peut se décliner selon des modalités diverses\, tout en produisant des effets similaires sur les\nterritoires. En croisant les regards\, il s’agira d’interroger les motivations\, les acteurs et les pratiques en jeu\n— parfois touristes\, parfois pèlerins — et d’examiner dans quelle mesure ces mobilités peuvent relever de\nprocessus comparables : déplacements vers un lieu spécifique\, mise en marche\, expériences collectives\,\ngestion des foules et construction symbolique de l’espace.\nÀ travers différentes interventions\, cette journée d’études propose d’analyser le phénomène du pèlerinage\ndans sa dimension géographique et à différentes échelles. Il s’agira d’interroger les formes contemporaines\ndu pèlerinage à partir de situations contrastées :\n• Le pèlerinage sacré et folklorique\, à travers l’exemple d’une procession festive d’origine\nprécolombienne au Mexique.\n• Le pèlerinage religieux et touristique\, à partir des pratiques de visite et de circulation dans des lieux\nemblématiques tels que la basilique Saint-Pierre au Vatican ou Notre-Dame de Paris.\n• Enfin\, des formes de pèlerinage touristique et médiatique\, illustrées par l’afflux croissant de\nvisiteurs au Musée Frida Kahlo.\nBibliographie sélective :\nAlvarado-Sizzo\, Ilia; Sánchez-Aguirre\, Driselda Patricia y Aldaz Galicia\, Norma Yadira (2024). “From film\ntourism to media pilgrimage: visiting the ‘real Mama-Coco’ in Indigenous Mexico”. Economía\, Sociedad y\nTerritorio\, 24(74): DOI: http://dx.doi.org/10.22136/est20242134\nChevrier\, Marie-Hélène (2023).« L’esprit dans les lieux : le réveil du sacré dans les sanctuaires catholiques\nsous l’effet de la sécularisation ? » Annales de géographie\, nos 756-757: 81-102.\nClaval\, Paul (2008). Religion et idéologie\, perspectives géographiques. PUPS. Religions dans l’histoire.\nCouldry\, Nick (2007) Pilgrimage in mediaspace: continuities and transformations. Etnofoor\, 20 (1). pp. 63-\n74.\nDupront\, Alphonse (1967). Tourisme et pèlerinage. https://doi.org/10.3406/comm.1967.1145\nDates : 4 juin\, de 17h à 20h (heure française)\nFormat :\n– Hybride afin que les participants mexicains et français puissent assister à la journée.\n– Français et Espagnol
URL:https://laboratoire-mediations.sorbonne-universite.fr/event/journee-detude-sur-le-theme-des-pelerinages-en-geographie/
LOCATION:A définir\, A définir\, Paris
ATTACH;FMTTYPE=image/tiff:https://laboratoire-mediations.sorbonne-universite.fr/wp-content/uploads/2021/04/Logo-MEDIATIONS-Full.tiff
END:VEVENT
END:VCALENDAR