BEGIN:VCALENDAR
VERSION:2.0
PRODID:-//Laboratoire Médiations | Unité de recherche de Sorbonne Université - ECPv6.15.12.2//NONSGML v1.0//EN
CALSCALE:GREGORIAN
METHOD:PUBLISH
X-WR-CALNAME:Laboratoire Médiations | Unité de recherche de Sorbonne Université
X-ORIGINAL-URL:https://laboratoire-mediations.sorbonne-universite.fr
X-WR-CALDESC:Évènements pour Laboratoire Médiations | Unité de recherche de Sorbonne Université
REFRESH-INTERVAL;VALUE=DURATION:PT1H
X-Robots-Tag:noindex
X-PUBLISHED-TTL:PT1H
BEGIN:VTIMEZONE
TZID:Europe/Paris
BEGIN:DAYLIGHT
TZOFFSETFROM:+0100
TZOFFSETTO:+0200
TZNAME:CEST
DTSTART:20250330T010000
END:DAYLIGHT
BEGIN:STANDARD
TZOFFSETFROM:+0200
TZOFFSETTO:+0100
TZNAME:CET
DTSTART:20251026T010000
END:STANDARD
BEGIN:DAYLIGHT
TZOFFSETFROM:+0100
TZOFFSETTO:+0200
TZNAME:CEST
DTSTART:20260329T010000
END:DAYLIGHT
BEGIN:STANDARD
TZOFFSETFROM:+0200
TZOFFSETTO:+0100
TZNAME:CET
DTSTART:20261025T010000
END:STANDARD
BEGIN:DAYLIGHT
TZOFFSETFROM:+0100
TZOFFSETTO:+0200
TZNAME:CEST
DTSTART:20270328T010000
END:DAYLIGHT
BEGIN:STANDARD
TZOFFSETFROM:+0200
TZOFFSETTO:+0100
TZNAME:CET
DTSTART:20271031T010000
END:STANDARD
END:VTIMEZONE
BEGIN:VEVENT
DTSTART;TZID=Europe/Paris:20260520T140000
DTEND;TZID=Europe/Paris:20260520T160000
DTSTAMP:20260422T142621
CREATED:20260421T093122Z
LAST-MODIFIED:20260421T093122Z
UID:15110-1779285600-1779292800@laboratoire-mediations.sorbonne-universite.fr
SUMMARY:Webinaire "Ecritures alternatives en SHS" mer. 20 mai 14h-16h
DESCRIPTION:L’unité de recherche Médiations – sciences des lieux\, sciences des liens\, organise\nun webinaire consacré aux écritures alternatives en sciences sociales\navec Juliet Fall (univ. de Genève) autrice de Bornées. Une histoire illustrée de la frontière\net Flora Lecomte (univ. Sorbonne Nouvelle)\, co-autrice de Magdalena – Femmes du fleuve\nle mercredi 20 mai de 14h à 16h\nhttps://zoom.us/j/92014434718?pwd=WtFrtvzbIn44Q327wurZHUisnfNCPI.1\nID de réunion: 920 1443 4718\nCode secret: 513826 \n\nLe webinaire sera l’occasion de revenir sur plusieurs questions : comment intégrer le dessin dans la démarche scientifique? Quelle place donne-t-on au récit proprement dit pour articuler les images entre elles? Comment s’y prendre quand on sait (ou pas) dessiner? Quelle valorisation scientifique d’une BD à deux étapes distinctes de la carrière? Les ouvrages ont tous deux été traduits\, l’un en espagnol Cuerpos de agua : ocho relatos de mujeres del Río Magdalena\, l’autre en anglais Along the Line – Writing with comics and graphic narrative in geography : l’image a-t-elle besoin d’être traduite? Quelles réceptions a rencontré un tel travail?\n\nLe webinaire est accessible sur inscription gratuite mais obligatoire pour recevoir les documents préparatoires\nhttps://framaforms.org/inscription-au-webinaire-ecritures-alternatives-en-shs-1776158784\n\nAu plaisir d’échanger ensemble à cette occasion avec Juliet Fall et Flora Lecomte\n\nOlivier Milhaud Samarina et Alberto Preci\nUnité de recherche Médiations – Sciences des lieux\, sciences des liens\nSorbonne Université
URL:https://laboratoire-mediations.sorbonne-universite.fr/event/webinaire-ecritures-alternatives-en-shs-mer-20-mai-14h-16h/
LOCATION:zoom
END:VEVENT
END:VCALENDAR