BEGIN:VCALENDAR
VERSION:2.0
PRODID:-//Laboratoire Médiations | Unité de recherche de Sorbonne Université - ECPv6.15.12.2//NONSGML v1.0//EN
CALSCALE:GREGORIAN
METHOD:PUBLISH
X-ORIGINAL-URL:https://laboratoire-mediations.sorbonne-universite.fr
X-WR-CALDESC:Évènements pour Laboratoire Médiations | Unité de recherche de Sorbonne Université
REFRESH-INTERVAL;VALUE=DURATION:PT1H
X-Robots-Tag:noindex
X-PUBLISHED-TTL:PT1H
BEGIN:VTIMEZONE
TZID:Europe/Paris
BEGIN:DAYLIGHT
TZOFFSETFROM:+0100
TZOFFSETTO:+0200
TZNAME:CEST
DTSTART:20250330T010000
END:DAYLIGHT
BEGIN:STANDARD
TZOFFSETFROM:+0200
TZOFFSETTO:+0100
TZNAME:CET
DTSTART:20251026T010000
END:STANDARD
BEGIN:DAYLIGHT
TZOFFSETFROM:+0100
TZOFFSETTO:+0200
TZNAME:CEST
DTSTART:20260329T010000
END:DAYLIGHT
BEGIN:STANDARD
TZOFFSETFROM:+0200
TZOFFSETTO:+0100
TZNAME:CET
DTSTART:20261025T010000
END:STANDARD
BEGIN:DAYLIGHT
TZOFFSETFROM:+0100
TZOFFSETTO:+0200
TZNAME:CEST
DTSTART:20270328T010000
END:DAYLIGHT
BEGIN:STANDARD
TZOFFSETFROM:+0200
TZOFFSETTO:+0100
TZNAME:CET
DTSTART:20271031T010000
END:STANDARD
END:VTIMEZONE
BEGIN:VEVENT
DTSTART;TZID=Europe/Paris:20260326T180000
DTEND;TZID=Europe/Paris:20260326T200000
DTSTAMP:20260425T161527
CREATED:20260128T134655Z
LAST-MODIFIED:20260128T134655Z
UID:14796-1774548000-1774555200@laboratoire-mediations.sorbonne-universite.fr
SUMMARY:Séminaires PASIFIKA
DESCRIPTION:Séance 4 – 26 mars 18h-20h\nSarah Mohamed-Gaillard – Concurrences internationales et agentivité insulaire en Océanie \nLieu / structure : Institut de Géographie\, Sorbonne Université\, 191 rue Saint-Jacques\, 75005 \nParis\, salle 304 et en visio via le lien suivant \nLIEN ZOOM POUR DISTANCIEL \nPage internet du séminaire  \n  \n  \n \n \n \nPDF DU PROGRAMME ICI \n 
URL:https://laboratoire-mediations.sorbonne-universite.fr/event/seminaires-pasifika-3/
LOCATION:Institut de Géographie salle 304
ATTACH;FMTTYPE=image/png:https://laboratoire-mediations.sorbonne-universite.fr/wp-content/uploads/2026/01/Capture-decran-2026-01-28-a-14.13.51.png
END:VEVENT
END:VCALENDAR