BEGIN:VCALENDAR
VERSION:2.0
PRODID:-//Laboratoire Médiations | Unité de recherche de Sorbonne Université - ECPv6.15.12.2//NONSGML v1.0//EN
CALSCALE:GREGORIAN
METHOD:PUBLISH
X-ORIGINAL-URL:https://laboratoire-mediations.sorbonne-universite.fr
X-WR-CALDESC:Évènements pour Laboratoire Médiations | Unité de recherche de Sorbonne Université
REFRESH-INTERVAL;VALUE=DURATION:PT1H
X-Robots-Tag:noindex
X-PUBLISHED-TTL:PT1H
BEGIN:VTIMEZONE
TZID:Europe/Paris
BEGIN:DAYLIGHT
TZOFFSETFROM:+0100
TZOFFSETTO:+0200
TZNAME:CEST
DTSTART:20250330T010000
END:DAYLIGHT
BEGIN:STANDARD
TZOFFSETFROM:+0200
TZOFFSETTO:+0100
TZNAME:CET
DTSTART:20251026T010000
END:STANDARD
BEGIN:DAYLIGHT
TZOFFSETFROM:+0100
TZOFFSETTO:+0200
TZNAME:CEST
DTSTART:20260329T010000
END:DAYLIGHT
BEGIN:STANDARD
TZOFFSETFROM:+0200
TZOFFSETTO:+0100
TZNAME:CET
DTSTART:20261025T010000
END:STANDARD
BEGIN:DAYLIGHT
TZOFFSETFROM:+0100
TZOFFSETTO:+0200
TZNAME:CEST
DTSTART:20270328T010000
END:DAYLIGHT
BEGIN:STANDARD
TZOFFSETFROM:+0200
TZOFFSETTO:+0100
TZNAME:CET
DTSTART:20271031T010000
END:STANDARD
END:VTIMEZONE
BEGIN:VEVENT
DTSTART;TZID=Europe/Paris:20260129T180000
DTEND;TZID=Europe/Paris:20260129T200000
DTSTAMP:20260425T161536
CREATED:20260128T133051Z
LAST-MODIFIED:20260128T133351Z
UID:14780-1769709600-1769716800@laboratoire-mediations.sorbonne-universite.fr
SUMMARY:Séminaires PASIFIKA
DESCRIPTION:Séance 1 – 29 janvier – Matthias Kowasch (Sorbonne Université\, Médiations) – “Colonialité et savoirs autochtones dans le système éducatif du Vanuatu”\nAussi en ligne : \nLieu / structure : Institut de Géographie\, Sorbonne Université\, 191 rue Saint-Jacques\, 75005 \nParis\, salle 304 et en visio via le lien suivant \nLIEN ZOOM POUR DISTANCIEL \nPage internet du séminaire  \n  \nLe 29 janvier prochain\, à 18h\, salle 304 de l’Institut de Géographie\, Matthias Kowasch (Sorbonne Université\, Médiations) inaugurera ce nouveau cycle de séminaires avec une première séance consacrée au thème suivant : \n“Colonialité et savoirs autochtones dans le système éducatif du Vanuatu“. \nMots clés : Colonialité\, savoirs et pratiques autochtones\, jardin scolaire\, éducation formelle\, décolonisation\, Vanuatu\nRésumé :\nDifférents chercheur.e.s défendant une approche décoloniale ont fait valoir que le capitalisme et la modernité sont à l’origine d’une violence épistémique\, qui se manifeste dans la colonialité du savoir et du pouvoir (p.ex.\, Dotson\, 2011 ; Santos\, 2014). La colonialité est présente dans la vie quotidienne\, étant donné que les langues\, les systèmes éducatifs et les systèmes d’organisation sociale sont marqués par la race et le genre\, et imposés aux territoires dans le cadre d’un processus de gouvernance coloniale (Zavala\, 2016). La décolonisation implique la restitution des terres\, la modification du système éducatif et la reconfiguration des relations de pouvoir (Curley et Smith\, 2020).\nLe système éducatif du Vanuatu se caractérise par son héritage colonial et par un écart important entre l’enseignement scolaire et la vie quotidienne des élèves\, notamment par une perte des savoirs et pratiques traditionnelles et des langues vernaculaires. Les langues d’enseignement sont l’anglais ou le français au Vanuatu\, la langue officielle bislama est parfois interdite et les langues vernaculaires sont à peine promues. Cependant\, les savoirs autochtones peuvent briser la dichotomie classique entre nature et société\, et apporter une contribution importante à la décolonisation de l’éducation. \nCette communication explore les savoirs autochtones sur les pratiques agricoles promus par les jardins scolaires au Vanuatu. Les jardins scolaires où sont cultivés manioc\, taro et d’autres plantes permettent de créer un lien avec la kastom et contribuent également à renforcer la résilience climatique dans un pays où les aléas climatiques sont fréquents. La communication est basée sur une étude empirique dans cinq établissements scolaires sur les îles de Tanna et Efate et des entretiens avec des proviseurs et des enseignants\, en collaboration avec des chercheur.e.s ni-vanuatu. \n \n \n \nPDF DU PROGRAMME ICI \n 
URL:https://laboratoire-mediations.sorbonne-universite.fr/event/seminaires-pasifika/
LOCATION:Institut de Géographie salle 304
ATTACH;FMTTYPE=image/png:https://laboratoire-mediations.sorbonne-universite.fr/wp-content/uploads/2026/01/Capture-decran-2026-01-28-a-14.13.51.png
END:VEVENT
END:VCALENDAR