BEGIN:VCALENDAR
VERSION:2.0
PRODID:-//Laboratoire Médiations | Unité de recherche de Sorbonne Université - ECPv6.15.12.2//NONSGML v1.0//EN
CALSCALE:GREGORIAN
METHOD:PUBLISH
X-ORIGINAL-URL:https://laboratoire-mediations.sorbonne-universite.fr
X-WR-CALDESC:Évènements pour Laboratoire Médiations | Unité de recherche de Sorbonne Université
REFRESH-INTERVAL;VALUE=DURATION:PT1H
X-Robots-Tag:noindex
X-PUBLISHED-TTL:PT1H
BEGIN:VTIMEZONE
TZID:Europe/Paris
BEGIN:DAYLIGHT
TZOFFSETFROM:+0100
TZOFFSETTO:+0200
TZNAME:CEST
DTSTART:20250330T010000
END:DAYLIGHT
BEGIN:STANDARD
TZOFFSETFROM:+0200
TZOFFSETTO:+0100
TZNAME:CET
DTSTART:20251026T010000
END:STANDARD
BEGIN:DAYLIGHT
TZOFFSETFROM:+0100
TZOFFSETTO:+0200
TZNAME:CEST
DTSTART:20260329T010000
END:DAYLIGHT
BEGIN:STANDARD
TZOFFSETFROM:+0200
TZOFFSETTO:+0100
TZNAME:CET
DTSTART:20261025T010000
END:STANDARD
BEGIN:DAYLIGHT
TZOFFSETFROM:+0100
TZOFFSETTO:+0200
TZNAME:CEST
DTSTART:20270328T010000
END:DAYLIGHT
BEGIN:STANDARD
TZOFFSETFROM:+0200
TZOFFSETTO:+0100
TZNAME:CET
DTSTART:20271031T010000
END:STANDARD
END:VTIMEZONE
BEGIN:VEVENT
DTSTART;TZID=Europe/Paris:20260128T100000
DTEND;TZID=Europe/Paris:20260128T120000
DTSTAMP:20260425T161534
CREATED:20260126T122832Z
LAST-MODIFIED:20260126T122832Z
UID:14698-1769594400-1769601600@laboratoire-mediations.sorbonne-universite.fr
SUMMARY:Séminaire de laboratoire - La Russie\, empire ou colonie ?
DESCRIPTION:Dans le cadre des séminaires de l’axe « Identifications et sociabilités »\, nous accueillerons Raimondo Lanza (PRODIG/Paris 1) le mercredi 28 janvier 2026 de 10h à 12h en salle 303 à l’Institut de géographie\, 191 rue Saint-Jacques\, 75005 Paris. La présentation s’intitulera La Russie\, empire ou colonie?\n\n\n\nLa politique étrangère russe fait l’objet d’un intérêt croissant dans les études postcoloniales. La violence militaire et psychologique contre l’Ukraine semble confirmer le caractère colonial de l’expansionnisme russe. Pourtant\, l’application des concepts et du vocabulaire du colonialisme au cas russe exige des précautions et des nuances. Cette complexité tient notamment au fait que les élites au pouvoir se présentent elles-mêmes comme une force « décoloniale »\, se posant en soutien du Sud global face à l’Occident\, et allant jusqu’à décrire la Russie comme une colonie potentielle de ce dernier. Plusieurs auteurs\, sans nier la dimension coloniale des régimes russes à l’égard de leurs périphéries — notamment à travers le concept d’auto-colonisation — soutiennent que la Russie aurait elle-même été soumise à une colonisation de longue durée\, à la fois symbolique\, culturelle et économique\, exercée par le centre du système mondial incarné par l’Occident capitaliste. À partir d’une approche de géopolitique critique et populaire – en particulier dans l’humour télévisé – ce travail cherche à montrer comment les imaginaires des inégalités spatiales en Russie\, ainsi que les représentations de son rôle dans le monde\, révèlent les profondes ambiguïtés d’un pays à la fois colonisateur et colonisé. Ces tensions traduisent le positionnement d’élites déchirées entre le désir d’intégrer l’Occident et celui de l’égaler en s’y opposant\, notamment par la promotion d’un projet civilisationnel eurasiatique. Tel est le prix d’être un « sang-mêlé » des relations internationales.\n\n\n\n\n\n\n\n\n\n\n\n\n\n\n\n\n\nSi ce séminaire s’inscrit dans l’axe Identifications et sociabilités\, en l’occurrence identifications géopolitiques et sociabilités par l’humour\, il est bien évidemment ouvert à tout le laboratoire. Si la géographie de l’humour\, les imaginaires et la géopolitique critique vous intéressent\, n’hésitez pas à venir le mercredi 28 janvier 2026 de 10h à 12h en salle 303 à l’Institut de géographie !
URL:https://laboratoire-mediations.sorbonne-universite.fr/event/seminaire-de-laboratoire-la-russie-empire-ou-colonie/
LOCATION:salle 303 Institut de Géographie
ATTACH;FMTTYPE=image/png:https://laboratoire-mediations.sorbonne-universite.fr/wp-content/uploads/2021/04/logo-nom-Mediations.png
END:VEVENT
END:VCALENDAR