BEGIN:VCALENDAR
VERSION:2.0
PRODID:-//Laboratoire Médiations | Unité de recherche de Sorbonne Université - ECPv6.15.12.2//NONSGML v1.0//EN
CALSCALE:GREGORIAN
METHOD:PUBLISH
X-WR-CALNAME:Laboratoire Médiations | Unité de recherche de Sorbonne Université
X-ORIGINAL-URL:https://laboratoire-mediations.sorbonne-universite.fr
X-WR-CALDESC:Évènements pour Laboratoire Médiations | Unité de recherche de Sorbonne Université
REFRESH-INTERVAL;VALUE=DURATION:PT1H
X-Robots-Tag:noindex
X-PUBLISHED-TTL:PT1H
BEGIN:VTIMEZONE
TZID:Europe/Paris
BEGIN:DAYLIGHT
TZOFFSETFROM:+0100
TZOFFSETTO:+0200
TZNAME:CEST
DTSTART:20240331T010000
END:DAYLIGHT
BEGIN:STANDARD
TZOFFSETFROM:+0200
TZOFFSETTO:+0100
TZNAME:CET
DTSTART:20241027T010000
END:STANDARD
BEGIN:DAYLIGHT
TZOFFSETFROM:+0100
TZOFFSETTO:+0200
TZNAME:CEST
DTSTART:20250330T010000
END:DAYLIGHT
BEGIN:STANDARD
TZOFFSETFROM:+0200
TZOFFSETTO:+0100
TZNAME:CET
DTSTART:20251026T010000
END:STANDARD
BEGIN:DAYLIGHT
TZOFFSETFROM:+0100
TZOFFSETTO:+0200
TZNAME:CEST
DTSTART:20260329T010000
END:DAYLIGHT
BEGIN:STANDARD
TZOFFSETFROM:+0200
TZOFFSETTO:+0100
TZNAME:CET
DTSTART:20261025T010000
END:STANDARD
END:VTIMEZONE
BEGIN:VEVENT
DTSTART;TZID=Europe/Paris:20251210T140000
DTEND;TZID=Europe/Paris:20251210T183000
DTSTAMP:20260425T010443
CREATED:20250527T125653Z
LAST-MODIFIED:20250527T130639Z
UID:13297-1765375200-1765391400@laboratoire-mediations.sorbonne-universite.fr
SUMMARY:Soutenance de thèse d'Antoine Chabrol
DESCRIPTION:Soutenance de thèse d’Antoine Chabrol \nsous la direction du professeur Eric Fouache \nMercredi 10 décembre 2025\n14h à 18h Salle des Actes Sorbonne mère
URL:https://laboratoire-mediations.sorbonne-universite.fr/event/soutenance-de-these-dantoine-chabrol/
LOCATION:Salle des Actes Sorbonne
ATTACH;FMTTYPE=image/jpeg:https://laboratoire-mediations.sorbonne-universite.fr/wp-content/uploads/2021/10/Chabrol-A.jpg
END:VEVENT
END:VCALENDAR