BEGIN:VCALENDAR
VERSION:2.0
PRODID:-//Laboratoire Médiations | Unité de recherche de Sorbonne Université - ECPv6.15.12.2//NONSGML v1.0//EN
CALSCALE:GREGORIAN
METHOD:PUBLISH
X-ORIGINAL-URL:https://laboratoire-mediations.sorbonne-universite.fr
X-WR-CALDESC:Évènements pour Laboratoire Médiations | Unité de recherche de Sorbonne Université
REFRESH-INTERVAL;VALUE=DURATION:PT1H
X-Robots-Tag:noindex
X-PUBLISHED-TTL:PT1H
BEGIN:VTIMEZONE
TZID:Europe/Paris
BEGIN:DAYLIGHT
TZOFFSETFROM:+0100
TZOFFSETTO:+0200
TZNAME:CEST
DTSTART:20240331T010000
END:DAYLIGHT
BEGIN:STANDARD
TZOFFSETFROM:+0200
TZOFFSETTO:+0100
TZNAME:CET
DTSTART:20241027T010000
END:STANDARD
BEGIN:DAYLIGHT
TZOFFSETFROM:+0100
TZOFFSETTO:+0200
TZNAME:CEST
DTSTART:20250330T010000
END:DAYLIGHT
BEGIN:STANDARD
TZOFFSETFROM:+0200
TZOFFSETTO:+0100
TZNAME:CET
DTSTART:20251026T010000
END:STANDARD
BEGIN:DAYLIGHT
TZOFFSETFROM:+0100
TZOFFSETTO:+0200
TZNAME:CEST
DTSTART:20260329T010000
END:DAYLIGHT
BEGIN:STANDARD
TZOFFSETFROM:+0200
TZOFFSETTO:+0100
TZNAME:CET
DTSTART:20261025T010000
END:STANDARD
END:VTIMEZONE
BEGIN:VEVENT
DTSTART;TZID=Europe/Paris:20251124T140000
DTEND;TZID=Europe/Paris:20251124T170000
DTSTAMP:20260424T174322
CREATED:20250915T132918Z
LAST-MODIFIED:20251118T111228Z
UID:13712-1763992800-1764003600@laboratoire-mediations.sorbonne-universite.fr
SUMMARY:Soutenance de thèse de Bingxin He
DESCRIPTION:Soutenance de thèse de Bingxin He \nDirectrice de thèse : Madame Edith FAGNONI \nTitre de la thèse :\nCAPITAL TOURISTIQUE ENTRE RUPTURES\, RECONSTRUCTIONS ET ADAPTATIONS\nRegards croisés sur la diversité des (re)mises en tourisme post-sismiques\nau Sichuan-Chine (2008) et au Népal (2015) \nSalle des Actes (Sorbonne mère) 24 novembre à partir de 14h. \nMembres du jury HE Bingxin \n\n\n\nÉdith FAGNONI\nSorbonne Université\nDirectrice\n\n\nProfesseure des Universités en Géographie\n\n\nMonique FORT\nUniversité Paris Cité\nRapporteur\n\n\nProfesseure émérite des Universités en Géographie\n\n\nCatherine FOURNET-GUÉRIN \nSorbonne Université\nExaminatrice\n\n\nProfesseur des Universités en Géographie\n\n\nSébastien JACQUOT\nUniversité Paris 1 Panthéon-Sorbonne\nExaminateur\n\n\nMaître de Conférences en Géographie\n\n\nJean-François KLEIN\nAcadémie militaire de Saint-Cyr – Coëtquidan\nExaminateur\n\n\nProfesseur des Universités en histoire contemporaine\n\n\nBenjamin TAUNAY  \nUniversité d’Aix-Marseille\nExaminateur\n\n\nProfesseur des Universités en études chinoises\n\n\nLihua ZHENG\nUniversité des Études Étrangères\ndu Guangdong à Guangzhou\nRapporteur\n\n\nProfesseur émérite des Universités en Communication  \ninterculturelle\n\n\n\n  \nRésumé de la thèse \nLa thèse examine la question de la (re)mise en tourisme à la suite des impacts post-sismiques de sites sinistrés. Dans ces contextes de ruptures soudaines\, la prise en compte des réalités sociales et culturelles des habitants\, le respect de l’authenticité des patrimoines et de la nature des divers acteurs impliqués dans les reconstructions\, constitue le cœur du phénomène étudié. Plusieurs questionnements émergent : la gestion de la crise et la rapidité de la reconstruction des lieux ou des sites touristiques après une rupture ; le rôle des organisations socio-politiques\, nationales et locales dans les processus de reconstruction ; l’authenticité des patrimoines et l’acceptation des habitants dans les rénovations ; l’essor de stratégies de développement touristique innovantes\, et l’adaptation aux nouveaux marchés d’un tourisme mondialisé. \nCette recherche mobilise l’observation des terrains touchés par des séismes majeurs\, la région du Sichuan (Chine\, séisme de 2008) et les vallées de Katmandou et Langtang (Népal\, séisme de 2015). Par ailleurs\, des entretiens sont menés avec les différents acteurs et responsables impliqués dans les processus de (re)mise en tourisme. Les notions de reconstruction\, de rupture\, de résilience\, d’authenticité et d’adaptation sont au cœur des analyses théoriques appliquées aux différents sites touristiques concernés. \nL’approche méthodologique a permis d’élaborer une typologie des (re)mises en tourisme culturelles\, mémorielles ou de loisirs des sites reconstruits\, et propose une analyse des enjeux liés à ces reconstructions. Un croisement de terrains en géographie entre les deux pays permet d’offrir un regard élargi sur l’analyse du rôle des divers acteurs publics et privés ou associatifs\, qu’ils soient majoritairement étatiques (Chine) ou\, au contraire\, très engagés par des organisations internationales et la société civile concernée (Népal). La thèse propose une réflexion sur le retour d’expérience de la reconstruction post-sismique\, à travers le prisme du capital touristique revisité par les nouveaux défis posés par les mutations du tourisme mondialisé et les crises environnementales à venir. \nMots clés : capital touristique\, reconstruction post-sismique\, crise\, rupture\, adaptation\, résilience\, authenticité\, patrimoine (im)matériel\, séisme\, (re)mise en tourisme\, tourisme de loisirs\, culturel et mémoriel\, Chine\, Sichuan\, Dujiangyan\, Wenchuan\, Népal\, Kathmandu\, Langtang.
URL:https://laboratoire-mediations.sorbonne-universite.fr/event/soutenance-de-these-de-bingxin-he/
LOCATION:Salle des Actes Sorbonne
ATTACH;FMTTYPE=image/png:https://laboratoire-mediations.sorbonne-universite.fr/wp-content/uploads/2025/09/bingxin_he.png
END:VEVENT
END:VCALENDAR