BEGIN:VCALENDAR
VERSION:2.0
PRODID:-//Laboratoire Médiations | Unité de recherche de Sorbonne Université - ECPv6.15.12.2//NONSGML v1.0//EN
CALSCALE:GREGORIAN
METHOD:PUBLISH
X-WR-CALNAME:Laboratoire Médiations | Unité de recherche de Sorbonne Université
X-ORIGINAL-URL:https://laboratoire-mediations.sorbonne-universite.fr
X-WR-CALDESC:Évènements pour Laboratoire Médiations | Unité de recherche de Sorbonne Université
REFRESH-INTERVAL;VALUE=DURATION:PT1H
X-Robots-Tag:noindex
X-PUBLISHED-TTL:PT1H
BEGIN:VTIMEZONE
TZID:Europe/Paris
BEGIN:DAYLIGHT
TZOFFSETFROM:+0100
TZOFFSETTO:+0200
TZNAME:CEST
DTSTART:20240331T010000
END:DAYLIGHT
BEGIN:STANDARD
TZOFFSETFROM:+0200
TZOFFSETTO:+0100
TZNAME:CET
DTSTART:20241027T010000
END:STANDARD
BEGIN:DAYLIGHT
TZOFFSETFROM:+0100
TZOFFSETTO:+0200
TZNAME:CEST
DTSTART:20250330T010000
END:DAYLIGHT
BEGIN:STANDARD
TZOFFSETFROM:+0200
TZOFFSETTO:+0100
TZNAME:CET
DTSTART:20251026T010000
END:STANDARD
BEGIN:DAYLIGHT
TZOFFSETFROM:+0100
TZOFFSETTO:+0200
TZNAME:CEST
DTSTART:20260329T010000
END:DAYLIGHT
BEGIN:STANDARD
TZOFFSETFROM:+0200
TZOFFSETTO:+0100
TZNAME:CET
DTSTART:20261025T010000
END:STANDARD
END:VTIMEZONE
BEGIN:VEVENT
DTSTART;TZID=Europe/Paris:20251121T140000
DTEND;TZID=Europe/Paris:20251121T180000
DTSTAMP:20260425T010447
CREATED:20251118T102912Z
LAST-MODIFIED:20251118T102912Z
UID:14148-1763733600-1763748000@laboratoire-mediations.sorbonne-universite.fr
SUMMARY:Soutenance de thse de Thibaut Bages
DESCRIPTION:Titre de la thèse : Les régions françaises et la politique de filière : un nouveau modèle de planification ? Stratégies et outils du développement de l’activité hydrogène par les régions Hauts-de-France\, Occitanie et Pays de la Loire\n\nSoutenance : le 21 novembre 2025 à 14h\, salle D323\, Maison de la recherche\, 28 rue Serpente\, Paris 6ème\n\n\n\nDirection de thèse : Xavier Desjardins et Isabelle Géneau de Lamarlière\n\nLe jury est composé de :\nFrançois Bost\, Professeur des universités\, Université de Reims Champagne-Ardenne (rapporteur)\nXavier Desjardins\, Professeur des universités\, Sorbonne Université\nIsabelle Géneau de Lamarlière\, Maîtresse de conférences\, Université Paris 1 Panthéon-Sorbonne\nNadine Levratto\, Directrice de recherche\, CNRS (examinatrice)\nFabien Nadou\, Professeur d’Economie territoriale et Aménagement\, EM Normandie Business School (examinateur)\nMagali Talandier\, Professeure des universités\, Université Grenoble Alpes (rapportrice)\n\nRésumé de la thèse :\nEn France\, les régions ont connu depuis leur création en 1982 une affirmation progressive de leur rôle dans les politiques économiques. Au cours de ces quarante dernières années\, elles ont bénéficié d’une augmentation de leurs budgets et de nouveaux outils : schémas stratégiques\, contrats avec l’Union européenne\, prise de participation dans des entreprises\, exclusivité des aides aux entreprises\, etc. De plus\, cette période a été marquée par le retrait de l’État dans les politiques industrielles et par l’affirmation progressive des objectifs de réindustrialisation et de transition écologique. Cette thèse interroge l’usage de la politique de filière par les régions pour contribuer à ces objectifs et\, plus largement\, l’existence d’un modèle régional de planification. Elle s’appuie sur le cas de la filière hydrogène et analyse comment les régions Hauts-de-France\, Occitanie et Pays de la Loire construisent une feuille de route puis interviennent pour contribuer à sa mise en œuvre. À partir de méthodes qualitatives\, dont un corpus de plus de quatre-vingt-dix entretiens croisant acteurs publics et entreprises de l’activité hydrogène\, ce travail étudie la contribution des régions au développement d’une activité économique émergente. Les schémas et les outils élaborés montrent que la politique régionale de filière est incomplète\, que sa contribution à la réduction des déséquilibres infrarégionaux est faible et qu’elle est fortement concurrencée par d’autres acteurs publics. Pour autant\, et à rebours des travaux insistant sur les faiblesses de la politique régionale\, cette thèse tend à montrer qu’il existe un modèle de planification régionale\, différent de la planification d’État des années 1950 et caractérisé par la promotion de champions régionaux\, par un rôle d’intermédiation et par une forte capacité de différenciation.
URL:https://laboratoire-mediations.sorbonne-universite.fr/event/soutenance-de-thse-de-thibaut-bages/
LOCATION:salle D323\, Maison de la recherche\, 28 rue Serpente\, Paris 6ème
ATTACH;FMTTYPE=image/jpeg:https://laboratoire-mediations.sorbonne-universite.fr/wp-content/uploads/2021/11/Sans-titre-1.jpg
END:VEVENT
END:VCALENDAR